BEGIN:VCALENDAR
VERSION:2.0
PRODID:-//TYPO3/NONSGML Calendarize//EN


BEGIN:VEVENT
UID:calendarize-diskusija-the-eu-in-an-emerging-world-order-main-character-companion-or-npc-non-player-character
DTSTAMP:20260422T094501Z

DTSTART:20260428T140000Z
DTEND:20260427T210000Z
    
SUMMARY:Diskusija “The EU in an Emerging World Order: Main Character\, Companion\, or NPC (Non-Player Character)?”
DESCRIPTION:Pasākumā tiks prezentēts mācību grāmatas “Eiropas Savienības tiesības. I daļa. Institucionālās tiesības” (European Union Law\, Volume I: Institutional Law) trešais\, būtiski pārstrādātais izdevums. Tā redaktori ir LU Juridiskās fakultātes viesprofesors Christoph Schewe\, LU JF Arnis Buka un Kaspars Gailītis. Grāmata tapusi projekta „European Law I” ietvaros\, ko īstenoja prof. Dr. iur. Arnis Buka un prof. Dr. Christoph Schewe.\nProgramma:\nAtklāšanas uzrunas: Ieva Pranka (Baltijas-Vācijas Augstskolu biroja izpilddirektore) un Heike Jantsch (Vācijas vēstniecība Rīgā).Ievads tēmā: Prof. Dr. iur. Christoph Schewe (FHVD Kiel-Altenholz / Latvijas Universitāte).Galvenā uzruna: Prof. Dr. h. c. iur. Egils Levits (bijušais Latvijas Valsts prezidents\, ES Tiesas tiesnesis).Referāts "Writing the Rules or Playing the Game? The EU in the Global AI Governance Landscape": Dr. iur. Vija Kalniņa (vadošā eksperte\, AI Master Lab).Referāts "Challenges to the EU Institutional Structure": Asst. Prof. Dr. iur. Arnis Buka (LU Starptautisko un Eiropas tiesību zinātņu katedras vadītājs).Podiuma diskusija: Moderē prof. Dr. Christoph Schewe.Grāmatas prezentācija: Mag. iur. Kaspars Gailītis (ES Tiesas tulkotājs) un prof. Dr. Christoph Schewe.\nReģistrācija. 
X-ALT-DESC;FMTTYPE=text/html:<p>Pasākumā tiks prezentēts mācību grāmatas <strong>“Eiropas Savienības tiesības. I daļa. Institucionālās tiesības” (European Union Law\, Volume I: Institutional Law)</strong> trešais\, būtiski pārstrādātais izdevums. Tā redaktori ir LU Juridiskās fakultātes viesprofesors Christoph Schewe\, LU JF Arnis Buka un Kaspars Gailītis. Grāmata tapusi projekta „European Law I” ietvaros\, ko īstenoja prof. Dr. iur. Arnis Buka un prof. Dr. Christoph Schewe.</p>\n<p>Programma:</p>\n<ul><li><strong>Atklāšanas uzrunas:</strong> Ieva Pranka (Baltijas-Vācijas Augstskolu biroja izpilddirektore) un Heike Jantsch (Vācijas vēstniecība Rīgā).</li><li><strong>Ievads tēmā:</strong> <strong>Prof. Dr. iur. Christoph Schewe (FHVD Kiel-Altenholz / Latvijas Universitāte).</strong></li><li><strong>Galvenā uzruna:</strong> Prof. Dr. h. c. iur. Egils Levits (bijušais Latvijas Valsts prezidents\, ES Tiesas tiesnesis).</li><li><strong>Referāts "Writing the Rules or Playing the Game? The EU in the Global AI Governance Landscape":</strong> Dr. iur. Vija Kalniņa (vadošā eksperte\, AI Master Lab).</li><li><strong>Referāts "Challenges to the EU Institutional Structure":</strong> <strong>Asst. Prof. Dr. iur. Arnis Buka (LU Starptautisko un Eiropas tiesību zinātņu katedras vadītājs)</strong>.</li><li><strong>Podiuma diskusija:</strong> Moderē prof. Dr. Christoph Schewe.</li><li><strong>Grāmatas prezentācija:</strong> Mag. iur. Kaspars Gailītis (ES Tiesas tulkotājs) un prof. Dr. Christoph Schewe.</li></ul>\n<p><a href="https://forms.gle/EzXSSVqZ6NtkByUd8">Reģistrācija.&nbsp\;</a></p>
LOCATION:Konferenču zāle\, LU JF\, Raiņa bulvāris 19
END:VEVENT

END:VCALENDAR