BEGIN:VCALENDAR
VERSION:2.0
PRODID:-//TYPO3/NONSGML Calendarize//EN


BEGIN:VEVENT
UID:calendarize-konference-aktualie-civilprocesa-problemjautajumi
DTSTAMP:20260227T104604Z

DTSTART:20260522T060000Z
DTEND:20260522T130000Z
    
SUMMARY:Konference "Aktuālie civilprocesa problēmjautājumi"
DESCRIPTION:Interesenti aicināti pieteikt dalību ar aptuveni 15 minūšu zinātnisku referātu par kādu no civilprocesa aktualitātēm. Īpaša uzmanība šogad tiks veltīta:\nprocesuālajam “huligānismam” un tā novēršanai\, tostarp negodprātīgai procesuālo tiesību izmantošanai un procesuālo sankciju efektivitātei\;pagaidu aizsardzības pret vardarbību problemātikai\, analizējot regulējuma pilnveides iespējas un ļaunprātīgas izmantošanas riskus.\nLai pieteiktos dalībai\, līdz 2026. gada 16. martam jānosūta informācija par referentu\, referāta tēmu\, tās aktualitātes pamatojums vienas rindkopas apmērā\, kā arī kontaktinformācija uz e-pasta adresi: cpkonference@lu.lv\nPriekšnoteikums dalībai ar priekšlasījumu ir referāta iesniegšana līdz 2026. gada 15. maijam.\nKonferencē prezentētos referātus būs iespējams iesniegt publicēšanai monogrāfijā\, ievērojot zinātniskās kvalitātes un noformējuma prasības.\nDetalizētāka informācija par konferences programmu un dalību klausītāja statusā drīzumā tiks publicēta Latvijas Universitātes Juridiskās fakultātes un Tieslietu ministrijas mājaslapās.
X-ALT-DESC;FMTTYPE=text/html:<p>Interesenti aicināti pieteikt dalību ar aptuveni 15 minūšu zinātnisku referātu par kādu no civilprocesa aktualitātēm. Īpaša uzmanība šogad tiks veltīta:</p>\n<ul><li>procesuālajam “huligānismam” un tā novēršanai\, tostarp negodprātīgai procesuālo tiesību izmantošanai un procesuālo sankciju efektivitātei\;</li><li>pagaidu aizsardzības pret vardarbību problemātikai\, analizējot regulējuma pilnveides iespējas un ļaunprātīgas izmantošanas riskus.</li></ul>\n<p>Lai pieteiktos dalībai\, līdz 2026. gada 16. martam jānosūta informācija par referentu\, referāta tēmu\, tās aktualitātes pamatojums vienas rindkopas apmērā\, kā arī kontaktinformācija uz e-pasta adresi: <a href="mailto:cpkonference@lu.lv">cpkonference@lu.lv</a></p>\n<p>Priekšnoteikums dalībai ar priekšlasījumu ir referāta iesniegšana līdz <strong>2026. gada 15. maijam.</strong></p>\n<p>Konferencē prezentētos referātus būs iespējams iesniegt publicēšanai monogrāfijā\, ievērojot zinātniskās kvalitātes un noformējuma prasības.</p>\n<p>Detalizētāka informācija par konferences programmu un dalību klausītāja statusā drīzumā tiks publicēta Latvijas Universitātes Juridiskās fakultātes un Tieslietu ministrijas mājaslapās.</p>
LOCATION:Konferenču zāle\, LU Juridiskā fakultāte
END:VEVENT

END:VCALENDAR