BEGIN:VCALENDAR
VERSION:2.0
PRODID:-//TYPO3/NONSGML Calendarize//EN


BEGIN:VEVENT
UID:calendarize-pavasara-izlaidums
DTSTAMP:20260223T152151Z

DTSTART:20260409T120000Z
DTEND:20260409T140000Z
    
SUMMARY:Pavasara izlaidums
DESCRIPTION:
X-ALT-DESC;FMTTYPE=text/html:
LOCATION:LU Lielā aula
END:VEVENT

END:VCALENDAR